BEGIN:VCALENDAR
VERSION:2.0
PRODID:-//Helena  Reynolds   Presents - ECPv6.13.2.1//NONSGML v1.0//EN
CALSCALE:GREGORIAN
METHOD:PUBLISH
X-ORIGINAL-URL:https://helenareynolds.net
X-WR-CALDESC:Events for Helena  Reynolds   Presents
REFRESH-INTERVAL;VALUE=DURATION:PT1H
X-Robots-Tag:noindex
X-PUBLISHED-TTL:PT1H
BEGIN:VTIMEZONE
TZID:America/Los_Angeles
BEGIN:DAYLIGHT
TZOFFSETFROM:-0800
TZOFFSETTO:-0700
TZNAME:PDT
DTSTART:20200308T100000
END:DAYLIGHT
BEGIN:STANDARD
TZOFFSETFROM:-0700
TZOFFSETTO:-0800
TZNAME:PST
DTSTART:20201101T090000
END:STANDARD
BEGIN:DAYLIGHT
TZOFFSETFROM:-0800
TZOFFSETTO:-0700
TZNAME:PDT
DTSTART:20210314T100000
END:DAYLIGHT
BEGIN:STANDARD
TZOFFSETFROM:-0700
TZOFFSETTO:-0800
TZNAME:PST
DTSTART:20211107T090000
END:STANDARD
BEGIN:DAYLIGHT
TZOFFSETFROM:-0800
TZOFFSETTO:-0700
TZNAME:PDT
DTSTART:20220313T100000
END:DAYLIGHT
BEGIN:STANDARD
TZOFFSETFROM:-0700
TZOFFSETTO:-0800
TZNAME:PST
DTSTART:20221106T090000
END:STANDARD
BEGIN:DAYLIGHT
TZOFFSETFROM:-0800
TZOFFSETTO:-0700
TZNAME:PDT
DTSTART:20230312T100000
END:DAYLIGHT
BEGIN:STANDARD
TZOFFSETFROM:-0700
TZOFFSETTO:-0800
TZNAME:PST
DTSTART:20231105T090000
END:STANDARD
BEGIN:DAYLIGHT
TZOFFSETFROM:-0800
TZOFFSETTO:-0700
TZNAME:PDT
DTSTART:20240310T100000
END:DAYLIGHT
BEGIN:STANDARD
TZOFFSETFROM:-0700
TZOFFSETTO:-0800
TZNAME:PST
DTSTART:20241103T090000
END:STANDARD
BEGIN:DAYLIGHT
TZOFFSETFROM:-0800
TZOFFSETTO:-0700
TZNAME:PDT
DTSTART:20250309T100000
END:DAYLIGHT
BEGIN:STANDARD
TZOFFSETFROM:-0700
TZOFFSETTO:-0800
TZNAME:PST
DTSTART:20251102T090000
END:STANDARD
END:VTIMEZONE
BEGIN:VTIMEZONE
TZID:UTC
BEGIN:STANDARD
TZOFFSETFROM:+0000
TZOFFSETTO:+0000
TZNAME:UTC
DTSTART:20190101T000000
END:STANDARD
END:VTIMEZONE
BEGIN:VTIMEZONE
TZID:America/Vancouver
BEGIN:DAYLIGHT
TZOFFSETFROM:-0800
TZOFFSETTO:-0700
TZNAME:PDT
DTSTART:20200308T100000
END:DAYLIGHT
BEGIN:STANDARD
TZOFFSETFROM:-0700
TZOFFSETTO:-0800
TZNAME:PST
DTSTART:20201101T090000
END:STANDARD
END:VTIMEZONE
BEGIN:VEVENT
DTSTART;TZID=America/Los_Angeles:20251114T130000
DTEND;TZID=America/Los_Angeles:20251114T150000
DTSTAMP:20260424T150210
CREATED:20251114T175642Z
LAST-MODIFIED:20251114T175642Z
UID:794-1763125200-1763132400@helenareynolds.net
SUMMARY:
DESCRIPTION:
URL:https://helenareynolds.net/index.php/event/794/
LOCATION:Curves Gym – Federal Way\, WA  98003\, 32020 1st Ave. S.\, Federal Way\, WA\, 98003\, United States
ORGANIZER;CN="Helena Reynolds":MAILTO:helena@helenareynolds.net
END:VEVENT
BEGIN:VEVENT
DTSTART;TZID=UTC:20251114T130000
DTEND;TZID=UTC:20251114T150000
DTSTAMP:20260424T150210
CREATED:20251114T175006Z
LAST-MODIFIED:20251114T175006Z
UID:790-1763125200-1763132400@helenareynolds.net
SUMMARY:Federal Way Book Club
DESCRIPTION:This exclusive event features a presentation on the book Destined to Be a Hamilton as well as other books presented by book club members.
URL:https://helenareynolds.net/index.php/event/federal-way-book-club-2/
LOCATION:Curves Gym – Federal Way\, WA  98003\, 32020 1st Ave. S.\, Federal Way\, WA\, 98003\, United States
ORGANIZER;CN="Helena Reynolds":MAILTO:helena@helenareynolds.net
END:VEVENT
BEGIN:VEVENT
DTSTART;TZID=UTC:20251114T130000
DTEND;TZID=UTC:20251114T150000
DTSTAMP:20260424T150210
CREATED:20251114T165434Z
LAST-MODIFIED:20251114T165434Z
UID:787-1763125200-1763132400@helenareynolds.net
SUMMARY:Federal Way Book Club
DESCRIPTION:This exclusive event is by invitation only featuring a review and details about the book Destined to Be a Hamilton. Other books will be presented by Book Club members during this session.
URL:https://helenareynolds.net/index.php/event/federal-way-book-club/
LOCATION:Curves Gym – Federal Way\, WA  98003\, 32020 1st Ave. S.\, Federal Way\, WA\, 98003\, United States
ORGANIZER;CN="Helena Reynolds":MAILTO:helena@helenareynolds.net
END:VEVENT
BEGIN:VEVENT
DTSTART;TZID=UTC:20251108T140000
DTEND;TZID=UTC:20251108T150000
DTSTAMP:20260424T150210
CREATED:20251108T205102Z
LAST-MODIFIED:20251108T205102Z
UID:785-1762610400-1762614000@helenareynolds.net
SUMMARY:Dorothy Wilhelm's "Coffee Chat and Change the World" Podcast
DESCRIPTION:This Zoom event was hosted by award-winning broadcaster\, author\, and international speaker Dorothy Wilhelm. It was recorded on Monday\, November 3\, 2025 but is available online on YouTube for viewing. A brief outline of the book Destined to Be a Hamilton was presented\, including how the project came to be.
URL:https://helenareynolds.net/index.php/event/dorothy-wilhelms-coffee-chat-and-change-the-world-podcast/
LOCATION:ZOOM via email address  (Zoom account not required)\, Online with email address
END:VEVENT
BEGIN:VEVENT
DTSTART;TZID=UTC:20250220T183000
DTEND;TZID=UTC:20250220T193000
DTSTAMP:20260424T150210
CREATED:20250220T002816Z
LAST-MODIFIED:20250220T002844Z
UID:742-1740076200-1740079800@helenareynolds.net
SUMMARY:Seattle Theatre Group - Hamilton - Beyond the Curtain VIP Presentation
DESCRIPTION:The event was actually held on Wednesday\, February 5\, 2025 from 6:30 to 7:20 PM in the Paramount Theatre’s Ernestine Anderson Room. It\, however\, was by invitation only so it was not posted in advance. But to include it on this calendar\, it is now a flashback.  The event included a PowerPoint description of how the book\, Destined to Be a Hamilton\, was created by Mary Anne Hamilton and Helena Reynolds. The Event Coordinator was Erick Paul\, staff member of STG
URL:https://helenareynolds.net/index.php/event/seattle-theatre-group-hamilton-beyond-the-curtain-vip-presentation/
LOCATION:WA
ORGANIZER;CN="Helena Reynolds":MAILTO:helena@helenareynolds.net
END:VEVENT
BEGIN:VEVENT
DTSTART;TZID=UTC:20240321T180000
DTEND;TZID=UTC:20240321T200000
DTSTAMP:20260424T150210
CREATED:20240228T034955Z
LAST-MODIFIED:20240228T034955Z
UID:727-1711044000-1711051200@helenareynolds.net
SUMMARY:Curves Gym - Federal Way WA - Girls Night Out
DESCRIPTION:Girls Night Out is an evening of fun and fundraising supporting the 10th Annual March of Diapers. The even features line dancing\, door prize drawings\, food\, vendors\, and the opportunity to meet new friends and share ideas. Hardcover and paperback copies of Destined to Be a Hamilton\, the Amazon #1 bestseller (2 categories) will be available. Also on display will be an example of how to turn ideas into a life stories book.
URL:https://helenareynolds.net/index.php/event/curves-gym-federal-way-wa-girls-night-out/
LOCATION:Curves Gym – Federal Way\, WA  98003\, 32020 1st Ave. S.\, Federal Way\, WA\, 98003\, United States
ORGANIZER;CN="Sharon Gentry%2C Owner":MAILTO:helena@helenareynolds.net
END:VEVENT
BEGIN:VEVENT
DTSTART;TZID=UTC:20231104T120000
DTEND;TZID=UTC:20231104T150000
DTSTAMP:20260424T150210
CREATED:20231019T145050Z
LAST-MODIFIED:20231019T150524Z
UID:662-1699099200-1699110000@helenareynolds.net
SUMMARY:Seminole (FL) Library Author Fair
DESCRIPTION:Coauthors Mary Anne Hamilton and Helena Reynolds were selected\, with 11 other local authors\, to participate in the 2023 Author Fair\, an exclusive event at the Seminole Community Library on November 4\, 2023. This date marks the 58th anniversary of the exact day Mary Anne met her future husband\, a 65 year-old-guest at the cocktail lounge where she was a struggling 31 year-old waitress with five children\, waiting for her divorce to be finalized. This story is only one of many in Mary Anne’s new book referred to as a Memoir Plus—in addition to life stories\, included are 90 little-known facts about her great-great-grandfather-in-law\, US Founding Father\, Alexander Hamilton. A link is posted on the presentation page entitled “OUR BOOK\, Destined to Be a Hamilton.” The 220 page book with 70 photos\, most in color\, can be purchased directly from Amazon.com. \n 
URL:https://helenareynolds.net/index.php/event/seminole-fl-library-author-fair/
LOCATION:Seminole Community Library\, 9200 113th St. N.\, Seminole\, FL\, 33772\, United States
END:VEVENT
BEGIN:VEVENT
DTSTART;TZID=UTC:20231006T150000
DTEND;TZID=UTC:20231006T160000
DTSTAMP:20260424T150210
CREATED:20230930T141600Z
LAST-MODIFIED:20230930T145252Z
UID:648-1696604400-1696608000@helenareynolds.net
SUMMARY:Brookdale Foundation House Hosts "Hamilton Happy Hour" in Federal Way\, WA
DESCRIPTION:Brookdale Foundation House residents\, families\, and local community members are welcome to this exclusive book author event during Happy Hour. The “Hamilton Happy Hour” features Federal Way resident\, Helena Reynolds\, who coauthored a Memoir Plus book with her friend\, Mary Anne Hamilton\, great-great-granddaughter-in-law of US Founding Father Alexander Hamilton. Their book\, “Destined to Be a Hamilton” (available on Amazon)\, shares Mary Anne’s life stories and has over 70 images\, 60 in full color\, plus QR Codes linking to online features and resources. Also included are 90 little-known facts about  Alexander Hamilton. Mary Anne will share a brief presentation (via Zoom) and will answer questions. Participants may enter names for a free book drawing and refreshments will be served. For seating considerations\, RSVPs are strongly suggested by calling: 253-838-8823 before Thursday\, Oct. 5\, 2023.
URL:https://helenareynolds.net/index.php/event/brookdale-foundation-house-book-presentation-federal-way-wa/
LOCATION:Brookdale Foundation House\, 32290 1st Avenue South\, Federal Way\, WA\, 98003\, United States
ORGANIZER;CN="Helena Reynolds":MAILTO:helena@helenareynolds.net
END:VEVENT
BEGIN:VEVENT
DTSTART;TZID=UTC:20230915T121500
DTEND;TZID=UTC:20230915T130000
DTSTAMP:20260424T150210
CREATED:20230915T073235Z
LAST-MODIFIED:20230915T073235Z
UID:635-1694780100-1694782800@helenareynolds.net
SUMMARY:BOOK LAUNCH - Destined to Be a Hamilton
DESCRIPTION:Join in the celebration as this self-published book by first time authors Mary Anne Hamilton and Helena Reynolds is officially launched.  Greet the authors in person and via Zoom. Enjoy light refreshments. See a PowerPoint presentation\, and enter to win a free book. \nPre-registration is suggested but not required. To reserve a spot\, call (253) 661-7701\, Curves Gym in Federal Way\, 32020 1st Ave. S. Federal Way\, WA
URL:https://helenareynolds.net/index.php/event/book-launch-destined-to-be-a-hamilton/
LOCATION:WA
ORGANIZER;CN="Helena Reynolds":MAILTO:helena@helenareynolds.net
END:VEVENT
BEGIN:VEVENT
DTSTART;TZID=UTC:20220716T133000
DTEND;TZID=UTC:20220716T150000
DTSTAMP:20260424T150210
CREATED:20220518T163239Z
LAST-MODIFIED:20220518T164958Z
UID:534-1657978200-1657983600@helenareynolds.net
SUMMARY:Celebration of Life for Juanita Ansotigue - July 16\, 2022
DESCRIPTION:Leave a Legacy of Love presentation “Rise to the Dream Across the Sea” will be shared as part of a Celebration of Life and Memorial Service for Juanita Ansotigue\, who moved to her heavenly mansion on January 7\, 2022 . \nThe event will be held at the Northport Bible Church\, 501 Center Ave. in Northport\, WA beginning at 1:30 PM on Saturday\, July 16\, 2022\, thirty days after what would have been her 93rd birthday. \nShe was born on June 16\, 1929 in Ormoc\, Leyte\, Philippine Islands and became a laundry worker for U.S. Soldiers near her hometown during WWII.  One of the Filipino Infantry soldiers wrote to her for 5 years and returned to marry her in 1950. In the summer of 1951\, she joined her husband\, Juan Ansotigue and together they raised their family in Northport\, WA. \nFor more information\, send requests to P.O. Box 3278\, Kent\, WA 98089.
URL:https://helenareynolds.net/index.php/event/celebration-of-life-for-juanita-ansotigue-july-16-2022/
LOCATION:WA
ORGANIZER;CN="Helena Reynolds":MAILTO:helena@helenareynolds.net
END:VEVENT
BEGIN:VEVENT
DTSTART;TZID=UTC:20210727T140000
DTEND;TZID=UTC:20210727T143000
DTSTAMP:20260424T150210
CREATED:20210726T213015Z
LAST-MODIFIED:20210726T213015Z
UID:458-1627394400-1627396200@helenareynolds.net
SUMMARY:Rise To The Dream Across The Sea DVD Presentation
DESCRIPTION:BY REQUEST: Enjoy an encore DVD presentation sharing the Life Story of Juan and Juanita Ansotigue and their 5-year WWII pen pal romance involving 17 years and 7000 miles between them. Special guest is 92 year old Juanita Ansotigue. The event is hosted at the Parkview Library but open to the entire community.
URL:https://helenareynolds.net/index.php/event/rise-to-the-dream-across-the-sea-dvd-presentation/
LOCATION:Parkview Senior Living Residence\, 240 South Silke Road\, Colville\,\, WA\, 99114\, United States
ORGANIZER;CN="Helena Reynolds":MAILTO:helena@helenareynolds.net
END:VEVENT
BEGIN:VEVENT
DTSTART;TZID=UTC:20210727T100000
DTEND;TZID=UTC:20210727T103000
DTSTAMP:20260424T150210
CREATED:20210726T211730Z
LAST-MODIFIED:20210726T212529Z
UID:453-1627380000-1627381800@helenareynolds.net
SUMMARY:Rise To The Dream DVD presentation
DESCRIPTION:Enjoy a DVD presentation sharing the Life Story of Juan and Juanita Ansotigue and their 5-year WWII pen pal romance involving 17 years and 7000 miles between them. Special guest is 92 year old Juanita Ansotigue. The event is hosted at the Parkview Library but open to the entire community.
URL:https://helenareynolds.net/index.php/event/rise-to-the-dream-dvd-presentation/
LOCATION:Parkview Senior Living Residence\, 240 South Silke Road\, Colville\,\, WA\, 99114\, United States
ORGANIZER;CN="Helena Reynolds":MAILTO:helena@helenareynolds.net
END:VEVENT
BEGIN:VEVENT
DTSTART;TZID=UTC:20210306T120000
DTEND;TZID=UTC:20210306T123000
DTSTAMP:20260424T150210
CREATED:20210212T214516Z
LAST-MODIFIED:20210213T223931Z
UID:353-1615032000-1615033800@helenareynolds.net
SUMMARY:War Hero Alexander Hamilton's Legacy and D.A.R.
DESCRIPTION:Founding Father Alexander Hamilton was a solution seeker and he usually found what he was searching for.  As a homeless\, parentless\, 12-year old boy on an isolated Caribbean island\, he “wished there was a war” thinking that it  would give him the opportunity to be somebody in the world.  Through hard work\, providential contacts\, and personal grit\, he migrated to the United States of America and rose up to be the right-hand-man for General George Washington. He also became a Revolutionary War Hero\, leading the final victorious battle over the British at Yorktown. \nAfter the war\, President Washington appointed Hamilton as America’s first Treasury Secretary\, responsible for creating what many believe eventually became the best economic system in the world. \n\nWhen states needed to pay their fair share in order for the Union to survive\, Hamilton devised a tax system which provided the foundation for the IRS.\nWhen he needed to stop sea smugglers from evading taxation\, Hamilton created an organization that evolved into the US Coast Guard.\nWhen his detractors threatened  to destroy the proposed US Constitution\, Hamilton wrote 51 of 85 supportive essays\,—known as the Federalist Papers—which helped convince the states to ratify the US Constitution.\nWhen he felt that he was being stifled and censored by his many enemies\, Hamilton helped start the New York Evening Post\, which still exists today as the New York Post.\n\nAlthough he played a major role as a Founding Father\, why was Alexander Hamilton’s impact minimized in most US History curriculum books?  In fact\, in 2015  the US Treasury Department planned to replace Hamilton’s image on the ten-dollar bill.  Why did they want to remove him and what made them change their decision?  How are these historical events related to D.A.R today? \nDiscover answers to these and other questions at Helena Reynolds’ Hamilton  D.A.R. workshop via Zoom at noon on Saturday\, March 6\, 2021 hosted by the Peter Puget Chapter\, NSDAR.   For additional information or to request a free link\, email helena@helenareynolds.net.
URL:https://helenareynolds.net/index.php/event/how-alexander-hamilton-still-impacts-d-a-r/
LOCATION:ZOOM via email address  (Zoom account not required)\, Online with email address
END:VEVENT
BEGIN:VEVENT
DTSTART;TZID=UTC:20200825T100000
DTEND;TZID=UTC:20200825T113000
DTSTAMP:20260424T150210
CREATED:20200813T230012Z
LAST-MODIFIED:20200823T030425Z
UID:278-1598349600-1598355000@helenareynolds.net
SUMMARY:SPECIAL GUEST STORIES: Mary Anne Hamilton\, widow of Alexander's great-great  grandson\, Laurens Morgan Hamilton
DESCRIPTION:In 1965\, Mary Anne Clark was a struggling single mother of 5 when she met a big-talking\, cash-flashing politician in a WA DC cocktail lounge where she worked as a waitress.  Her manager told her that the man\, who walked with a cane\, was an heir to both JP Morgan and Alexander Hamilton.  She was not impressed so she blew him off….repeatedly. \nHear amazing stories of how 65 year-old Laurens Morgan Hamilton successfully wooed 31 year-old Mary Anne Clark; they were married from 1966 to 1978 when he passed away. \nOther stories may include Mary Anne’s subsequent successful career as a Realtor (her business card featured her picture in the middle of a ten dollar bill)\, her adventures around Washington DC (one of her connected friends unlocked several back doors enabling her to meet celebrities like Mother Teresa) and her generous contributions (some of the priceless family treasures have been distributed to appreciative historical organizations). \nNOTE: As of Saturday\, August 22\, 2020\, Rand Scholet\, Founder of the Alexander Hamilton Awareness Society (The AHA Society)\,  has been confirmed to host a special presentation on Mary Anne’s adventures\, many of which were sponsored by The AHA Society. \nPHOTO:  HAMILTON\, AN AMERICAN MUSICAL creator and star\, LIN-MANUEL MIRANDA invited MARY ANNE HAMILTON backstage after she saw the Broadway Production in April 2016.
URL:https://helenareynolds.net/index.php/event/special-guest-via-speakerphone-mary-anne-hamilton-widow-of-alexanders-great-great-grandson-laurens-morgan-hamilton/
LOCATION:ZOOM via email address  (Zoom account not required)\, Online with email address
ATTACH;FMTTYPE=image/jpeg:https://helenareynolds.net/wp-content/uploads/2020/08/Mary-Anne-Hamilton-Lin-Manuel-Miranda-pic.jpg
ORGANIZER;CN="Helena Reynolds":MAILTO:helena@helenareynolds.net
END:VEVENT
BEGIN:VEVENT
DTSTART;TZID=UTC:20200806T190000
DTEND;TZID=UTC:20200806T200000
DTSTAMP:20260424T150210
CREATED:20200726T010246Z
LAST-MODIFIED:20200726T010430Z
UID:268-1596740400-1596744000@helenareynolds.net
SUMMARY:HAMILTON: A Recap\, Comparison\, & "Fact\, Fiction\, Faction" Discussion
DESCRIPTION:Did you see Hamilton\, An American Musical live on stage between August 2015 and March 2020?  Have you seen the film version streaming on Disney + beginning July 3\, 2020? These free Zoom events feature a recap of the shows\, a comparison of the live and film versions as well as a discussion of which events depicted in both shows were “fact\, fiction\, or faction. ” \nThese unique sessions are scheduled on the 5th Anniversary of the show’s Broadway Opening night\, August 6\, 2015 in New York.  Guests may register for one or both sessions as the discussions may vary based on the perspectives of the participants. \nOnly an email address and smart phone are needed although a computer with microphone and camera are helpful. A Zoom account is not necessary but pre-registration is required and open for one or both events on/before Monday\, August 3\, 2020.
URL:https://helenareynolds.net/index.php/event/hamilton-a-recap-comparison-fact-fiction-faction-discussion-2/
LOCATION:WA
ORGANIZER;CN="Helena Reynolds":MAILTO:helena@helenareynolds.net
END:VEVENT
BEGIN:VEVENT
DTSTART;TZID=America/Los_Angeles:20200806T100000
DTEND;TZID=America/Los_Angeles:20200806T110000
DTSTAMP:20260424T150210
CREATED:20200726T005423Z
LAST-MODIFIED:20200726T005423Z
UID:265-1596708000-1596711600@helenareynolds.net
SUMMARY:HAMILTON: A Recap\, Comparison & "Fact\, Fiction\, Faction" Discussion
DESCRIPTION:Did you see Hamilton\, An American Musical live on stage between August 2015 and March 2020?  Have you seen the film version streaming on Disney + beginning July 3\, 2020? These free Zoom events feature a recap of the shows\, a comparison of the live and film versions as well as a discussion of which events depicted in both shows were “fact\, fiction\, or faction. ” \nThese unique sessions are scheduled on the 5th Anniversary of the show’s Broadway Opening night\, August 6\, 2015 in New York.  Guests may register for one or both sessions as the discussions may vary based on the perspectives of the participants. \nOnly an email address and smart phone are needed although a computer with microphone and camera are helpful. A Zoom account is not necessary but pre-registration is required and open for one or both events on/before Monday\, August 3\, 2020.
URL:https://helenareynolds.net/index.php/event/hamilton-a-recap-comparison-fact-fiction-faction-discussion/
LOCATION:WA
ORGANIZER;CN="Helena Reynolds":MAILTO:helena@helenareynolds.net
END:VEVENT
BEGIN:VEVENT
DTSTART;TZID=UTC:20200708T100000
DTEND;TZID=UTC:20200708T113000
DTSTAMP:20260424T150210
CREATED:20200626T175044Z
LAST-MODIFIED:20200626T175058Z
UID:244-1594202400-1594207800@helenareynolds.net
SUMMARY:HAMILTON ~ Questions\, Answers\, Discussion and Resources after Disney Plus Viewing
DESCRIPTION:This is a private educational session which is available to other organizations interested in learning about Alexander Hamilton\, Hamilton\, the Musical and the playwright Lin-Manuel Miranda. It is available via Zoom in a virtual format and in person when social gatherings are able to occur safely. See the Contact page of this web site to request more information.
URL:https://helenareynolds.net/index.php/event/hamilton-questions-answers-discussion-and-resources-after-disney-plus-viewing/
LOCATION:WESLEY\, an Older Adult Community\, 815 S. 216th Street\, Des Moines\, WA\, 98198\, United States
END:VEVENT
BEGIN:VEVENT
DTSTART;TZID=UTC:20200702T100000
DTEND;TZID=UTC:20200702T113000
DTSTAMP:20260424T150210
CREATED:20200626T174641Z
LAST-MODIFIED:20200626T175201Z
UID:241-1593684000-1593689400@helenareynolds.net
SUMMARY:HAMILTON ~ The Man\, The Musical\, and The Maestro who Made the Musical
DESCRIPTION:This is a private educational session which is available to other organizations interested in learning about Alexander Hamilton\, Hamilton\, the Musical and the playwright Lin-Manuel Miranda. It is available via Zoom in a virtual format and in person when social gatherings are able to occur safely. See the Contact page of this web site to request more information.
URL:https://helenareynolds.net/index.php/event/hamilton-the-man-the-musical-and-the-maestro-who-made-the-musical/
LOCATION:WESLEY\, an Older Adult Community\, 815 S. 216th Street\, Des Moines\, WA\, 98198\, United States
END:VEVENT
BEGIN:VEVENT
DTSTART;TZID=UTC:20200618T100000
DTEND;TZID=UTC:20200618T113000
DTSTAMP:20260424T150210
CREATED:20200412T014501Z
LAST-MODIFIED:20200516T172557Z
UID:215-1592474400-1592479800@helenareynolds.net
SUMMARY:Hamilton Discussion Group - FREE ZOOM WORKSHOP!
DESCRIPTION:NOTE: This event will be held as a Zoom online session.  Call 253-856-5164 to leave a request for a special Zoom invitation before Thursday\, June 11\, 2020. \nEveryone is invited to this first online Zoom session of the Hamilton Discussion Group whether or not you attended the Kent 50 Plus Hamilton sessions in 2017\, 2018 and 2019. We’ll share our Hamilton experiences and future plans will be discussed\, including the possibility of renewing the Hamilton Discussion Group or hosting a Hamil-Thon—46 song overview—before the show returns to the Paramount Theatre in Seattle\, WA.  This engagement is tentatively scheduled for May 11 through June 20\, 2021 in downtown Seattle. \nNEWS FLASH!  Beginning July 3\, 2020\, Disney Plus subscribers may enjoy the movie version of Hamilton\, The Musical which was filmed on Broadway featuring the Original Cast Members. If interest is shown\, the Zoom Hamilton Discussion group may continue on a regular basis.
URL:https://helenareynolds.net/index.php/event/hamilton-discussion-group-free-workshop/
LOCATION:Kent Senior Activity Center\, WA\, United States
ORGANIZER;CN="Helena Reynolds":MAILTO:helena@helenareynolds.net
END:VEVENT
BEGIN:VEVENT
DTSTART;TZID=America/Vancouver:20200616T190000
DTEND;TZID=America/Vancouver:20200616T200000
DTSTAMP:20260424T150210
CREATED:20200119T004234Z
LAST-MODIFIED:20200516T173000Z
UID:186-1592334000-1592337600@helenareynolds.net
SUMMARY:EVENT POSTPONED TBD ~ Hamilton: The Man\, the Musical\, & the Maestro who Made it Happen
DESCRIPTION:NOTE: Event Postponed TBD:  How did Hamilton\, the Musical influence a major U.S. Treasury Department decision in 2015?  When and why was Founding Father Alexander Hamilton’s legacy “buried” and how was it “uncovered” over 200 years later? How did a fledgling new nation become a global super-power so quickly? Why was the nation’s capitol moved from New York to a swamp near the Potomac River? Find the answers to these and other intriguing questions during this exclusive workshop at Wesley in Des Moines\, Washington.  Presenter Helena Reynolds was Washington State’s first member of the Alexander Hamilton Awareness Society and has presented Hamilton workshops and discussion groups since 2016. Reservations are required for this free event which is open to the general public but requires special entrance procedures to the private facility. Call 253-856-5164 to pre-register and to get entrance information.
URL:https://helenareynolds.net/index.php/event/hamilton-the-man-the-musical-the-maestro-who-made-it-happen/
LOCATION:WESLEY\, an Older Adult Community\, 815 S. 216th Street\, Des Moines\, WA\, 98198\, United States
ORGANIZER;CN="Helena Reynolds":MAILTO:helena@helenareynolds.net
END:VEVENT
BEGIN:VEVENT
DTSTART;TZID=America/Vancouver:20200213T100000
DTEND;TZID=America/Vancouver:20200213T113000
DTSTAMP:20260424T150210
CREATED:20200119T000315Z
LAST-MODIFIED:20200122T142158Z
UID:184-1581588000-1581593400@helenareynolds.net
SUMMARY:Leave a Legacy of Love Workshop
DESCRIPTION:Has your family discussed producing a Legacy Project but you don’t know where to begin? Hear tips and suggestions to help you get started creating your own life story with memorable pictures\, adventurous tales\,  and your favorite music.  Memoir projects could be an article\, book\, documentary\, slide show\, movie\, DVD or another media production. This presentation includes two  completed 40th Anniversary Legacy DVDs : “Rise to the Dream Across the Sea” is about Juan and Juanita Ansotigue’s WWII five-year pen-pal romance\, 17 year age difference and subsequent challenges of their 47 year marriage. “Rising to a Dream” is about Dave and Helena Ansotigue Reynolds’ first 40 years of marriage. Helena refers to this project as “Rise of The Fastball Across the Plate” because its theme features their passion for baseball. Also see a 40 foot wide photo essay stored in O-Ring notebooks.  Ideas on how to host a family LIVING Celebration of Life will also be shared.  Pre-registration is strongly suggested but not required. Call 253-856-5164; ask for Class #71004. Free — all aged adults welcome.
URL:https://helenareynolds.net/index.php/event/leave-a-legacy-of-love-workshop-2/
LOCATION:Kent Senior Activity Center\, WA\, United States
ORGANIZER;CN="Helena Reynolds":MAILTO:helena@helenareynolds.net
END:VEVENT
BEGIN:VEVENT
DTSTART;TZID=UTC:20190219T090000
DTEND;TZID=UTC:20190219T111500
DTSTAMP:20260424T150210
CREATED:20190127T170433Z
LAST-MODIFIED:20190127T170433Z
UID:138-1550566800-1550574900@helenareynolds.net
SUMMARY:Hamilton Discussion Group
DESCRIPTION:Feb 19\, 9-11:15am\, hear attendee stories from the Puerto Rico Broadway musical starring Lin-Manual Miranda\, Kent Senior Activity Center\, 253-856-5164.
URL:https://helenareynolds.net/index.php/event/hamilton-discussion-group/
LOCATION:Kent Senior Activity Center\, WA\, United States
END:VEVENT
BEGIN:VEVENT
DTSTART;TZID=UTC:20190214T100000
DTEND;TZID=UTC:20190214T113000
DTSTAMP:20260424T150210
CREATED:20190127T222501Z
LAST-MODIFIED:20190127T222501Z
UID:170-1550138400-1550143800@helenareynolds.net
SUMMARY:Leave a Legacy of Love Workshop
DESCRIPTION:If your family has wanted to create a Legacy Project but you aren’t sure how to get started\, come hear tips and suggestions that may help you begin this exciting process. \nSee  two examples of Legacy DVD’s that happen to be 40th Anniversary projects  and a 40 foot wide life-story-in-print photo essay. \nThe first is about Helena’s parents\, Juan and Juanita Ansotigue’s World War II 5-year pen-pal romance\, marriage and subsequent challenges. This project was created in 1990 for their milestone anniversary but was also shown for Juan’s Celebration of Life when he passed away in 1997. Legacy Projects produced in advance allow families to avoid the stress of last-minute productions while in the midst of grieving. \nThe second highlight DVD was produced by Dave and Helena’s son and daughter\, Jason and Jana Reynolds of their first 40 years\, including their baseball passion. Entitled “Rising to a Dream” Helena affectionately refers to it as “Rise of the Fastball Across the Plate.” \nAll ages are welcome\, especially families.  There is no charge but pre-registration is highly suggested by calling (253) 856-5164.
URL:https://helenareynolds.net/index.php/event/leave-a-legacy-of-love-workshop/
LOCATION:Kent Senior Activity Center\, WA\, United States
ORGANIZER;CN="Helena Reynolds":MAILTO:helena@helenareynolds.net
END:VEVENT
END:VCALENDAR